BEGIN:VCALENDAR
VERSION:2.0
PRODID:-//Stitchin&#039; A Fit - ECPv6.15.20//NONSGML v1.0//EN
CALSCALE:GREGORIAN
METHOD:PUBLISH
X-ORIGINAL-URL:https://stitchinafit.com
X-WR-CALDESC:Events for Stitchin&#039; A Fit
REFRESH-INTERVAL;VALUE=DURATION:PT1H
X-Robots-Tag:noindex
X-PUBLISHED-TTL:PT1H
BEGIN:VTIMEZONE
TZID:America/Denver
BEGIN:DAYLIGHT
TZOFFSETFROM:-0700
TZOFFSETTO:-0600
TZNAME:MDT
DTSTART:20250309T090000
END:DAYLIGHT
BEGIN:STANDARD
TZOFFSETFROM:-0600
TZOFFSETTO:-0700
TZNAME:MST
DTSTART:20251102T080000
END:STANDARD
BEGIN:DAYLIGHT
TZOFFSETFROM:-0700
TZOFFSETTO:-0600
TZNAME:MDT
DTSTART:20260308T090000
END:DAYLIGHT
BEGIN:STANDARD
TZOFFSETFROM:-0600
TZOFFSETTO:-0700
TZNAME:MST
DTSTART:20261101T080000
END:STANDARD
BEGIN:DAYLIGHT
TZOFFSETFROM:-0700
TZOFFSETTO:-0600
TZNAME:MDT
DTSTART:20270314T090000
END:DAYLIGHT
BEGIN:STANDARD
TZOFFSETFROM:-0600
TZOFFSETTO:-0700
TZNAME:MST
DTSTART:20271107T080000
END:STANDARD
END:VTIMEZONE
BEGIN:VEVENT
DTSTART;TZID=America/Denver:20260327T103000
DTEND;TZID=America/Denver:20260328T160000
DTSTAMP:20260420T170735
CREATED:20260202T202058Z
LAST-MODIFIED:20260226T194720Z
UID:860-1774607400-1774713600@stitchinafit.com
SUMMARY:Trousers Sewing Workshop - Mar 27-28\, 2026 (Fort Collins)
DESCRIPTION:Master the Art of Trouser Fitting: Trousers Sewing Workshop Fort Collins\n📅 March 27–28\, 2026\n🕙 Fri 10:30 AM–1:30 PM\, Sat 10:00 AM–4:00 PM\n📍 The Fig Leaf\, 2834 S. College Ave\, Fort Collins\, CO \n\nRegister Now at The Fig Leaf\n\nRegistration is handled through The Fig Leaf. Click above to reserve your spot! (Opens in a new tab.) \nAre you ready to sew trousers that actually fit your real body\, not a pattern envelope fantasy? Join this hands-on trousers fitting workshop in Fort Collins where you’ll learn practical\, repeatable fitting steps you can use again and again. This isn’t a “follow along and hope” class. You’ll leave with a custom-fitted trouser pattern and a clear plan for better fit going forward. \nWhat You’ll Learn in This Trousers Sewing Workshop\nIn this comprehensive trouser fitting workshop\, you’ll discover: \n\n\nHow to choose a trouser pattern and size with confidence (without guessing)\nThe LCD method (Length\, Circumference\, Depth) for dialing in fit in the right order\nHow to read wrinkles and drag lines so they actually tell you what to fix\nHow to adjust common trouser fit issues like:\n\nwaist gaping\nfull tummy or flat tummy needs\nfull seat or flat seat\ncrotch length and crotch curve issues\nthigh and knee fit\n\n\n\nWorkshop Details & Registration\nDay 1 (Friday 10:30 AM – 1:30 PM): Create your perfectly fitted muslin (test garment) and begin the fitting process. Receive personalized fitting guidance from certified fitting expert Kari Kechter as we identify and pin your specific fit adjustments.\n\nDay 2 (Saturday 10:00 AM – 4:00 PM): We’ll refine your fit\, finalize your pattern changes\, and then move into sewing your trousers with confidence\, with continued support to help you get the result you came for.\n\n\nWhat’s included:\n\n$25 value trouser pattern\nAll-day expert instruction\nSmall class size (max 6) for individualized attention\nYour custom-fitted pattern to take home\n\nWhy This Workshop Is Different\nTrouser fitting can feel like the hardest thing in garment sewing\, mostly because the “why” behind the wrinkles is rarely explained clearly. In this workshop\, we slow down\, fit your body (not a generic standard)\, and make changes you can actually understand. You’ll get personal help\, clear steps\, and a better-fitting result.\n\nWorkshop Experience Highlights:\n\nExpert Personal Attention: Individual fitting guidance from a certified professional\nSmall Group: Only 6 spots for lots of one-on-one help\nHands-On Learning: Fit-first approach with real-time troubleshooting\nTake Home Your Pattern: Your custom-fit pattern is yours to keep!\n\n\n\nReady to Sew Trousers That Fit?\nReserve your spot now—class is limited to 6 students for the best experience.\n\nRegister Now at The Fig Leaf\n\nNote: You’ll be taken to The Fig Leaf’s site (opens in a new tab) to complete your registration. \nLooking for Your Next Fitting Challenge?\nOnce you’ve mastered pants fitting\, consider joining our Perfect Fit Blouse Workshop to tackle woven fabrics and new fitting techniques. Your fitting journey continues here!\n\n \n\n\nFrequently Asked Questions\nDo I need to bring my own sewing machine?\nYes\, please bring your own sewing machine\, needles\, bobbins\, and matching thread. This helps you get comfortable with your own equipment!\n\nIs this workshop suitable for beginners?\nIf you know how to thread your machine and sew a basic seam\, you’ll do great! Some sewing experience is helpful\, and I’ll guide you step-by-step through the fitting process.\n\nWhat’s included in the workshop fee?\nYour registration includes a $25 value trousers pattern\, personalized fitting guidance\, and hands-on instruction for both days\, and help creating a custom-fitted trouser pattern.\n\nHow many students are in the class?\nClass size is limited to 6 students for lots of personal attention.\n\nWhat if I need to cancel?\nPlease check The Fig Leaf’s registration policy for details about cancellations and refunds.\n\nNote: Cancellations made within 14 days of the workshop are non-refundable\, since patterns and supplies need to be ordered in advance.\n\n\nCan I sign up for future workshops?\nAbsolutely! Keep an eye out for upcoming workshops (including another trousers session in Longmont) or join my email list for early access.\n\nStill have questions?\nEmail Kari at kari@stitchinafit.com and I’ll be happy to help!
URL:https://stitchinafit.com/event/trousers-sewing-workshop-mar-27-28-2026-fort-collins/
LOCATION:The Fig Leaf\, 2834 S. College Ave\, Fort Collins\, CO\, 80525\, United States
CATEGORIES:Workshop
ATTACH;FMTTYPE=image/png:https://stitchinafit.com/wp-content/uploads/2024/12/Blue_trousers-removebg-preview-e1734719065961.png
END:VEVENT
END:VCALENDAR